BEGIN:VCALENDAR
VERSION:2.0
PRODID:-//ChamberMaster//Event Calendar 2.0//EN
METHOD:PUBLISH
X-PUBLISHED-TTL:P1H
REFRESH-INTERVAL:P1H
CALSCALE:GREGORIAN
BEGIN:VTIMEZONE
TZID:America/Chicago
BEGIN:DAYLIGHT
RRULE:FREQ=YEARLY;BYMONTH=3;BYDAY=2SU
DTSTART:20070101T000000
TZOFFSETFROM:-0600
TZOFFSETTO:-0500
TZNAME:Central Daylight Time
END:DAYLIGHT
BEGIN:STANDARD
RRULE:FREQ=YEARLY;BYMONTH=11;BYDAY=1SU
DTSTART:20070101T000000
TZOFFSETFROM:-0500
TZOFFSETTO:-0600
TZNAME:Central Standard Time
END:STANDARD
END:VTIMEZONE
BEGIN:VEVENT
DTSTART;TZID=America/Chicago:20260518T113000
DTEND;TZID=America/Chicago:20260518T130000
X-MICROSOFT-CDO-ALLDAYEVENT:FALSE
SUMMARY:Lunch & Learn - Lead Generator Tools with AJ Schley
DESCRIPTION:Monday\, May 18th 11:30 - 1:00pm
X-ALT-DESC;FMTTYPE=text/html:<!DOCTYPE html><html><head><title></title></head><body aria-disabled="false"><div style='margin: 0px\; overflow-wrap: break-word\; white-space: pre-wrap\; font-family: system-ui\, -apple-system\, "system-ui"\, ".SFNSText-Regular"\, sans-serif\; color: rgb(8\, 8\, 9)\; font-size: 15px\; font-style: normal\; font-variant-ligatures: normal\; font-variant-caps: normal\; font-weight: 400\; letter-spacing: normal\; orphans: 2\; text-align: start\; text-indent: 0px\; text-transform: none\; widows: 2\; word-spacing: 0px\; -webkit-text-stroke-width: 0px\; background-color: rgb(255\, 255\, 255)\; text-decoration-thickness: initial\; text-decoration-style: initial\; text-decoration-color: initial\;'><div dir="auto" style="font-family: inherit\; text-align: start\;"><strong fr-original-style="" style="font-weight: 700\;">Monday</strong>\, May 18th 11:30 - 1:00pm</div></div><div style='margin: 0.5em 0px 0px\; overflow-wrap: break-word\; white-space: pre-wrap\; font-family: system-ui\, -apple-system\, "system-ui"\, ".SFNSText-Regular"\, sans-serif\; color: rgb(8\, 8\, 9)\; font-size: 15px\; font-style: normal\; font-variant-ligatures: normal\; font-variant-caps: normal\; font-weight: 400\; letter-spacing: normal\; orphans: 2\; text-align: start\; text-indent: 0px\; text-transform: none\; widows: 2\; word-spacing: 0px\; -webkit-text-stroke-width: 0px\; background-color: rgb(255\, 255\, 255)\; text-decoration-thickness: initial\; text-decoration-style: initial\; text-decoration-color: initial\;'><br></div></body></html>
LOCATION:2360 Dakota Drive Lakeshore Realtors Association Grafton WI 53024
UID:e.3016.1446109
SEQUENCE:3
DTSTAMP:20260425T123102Z
URL:https://members.lakeshorera.com/eventcalendar/Details/lunch-learn-lead-generator-tools-with-aj-schley-1712819?sourceTypeId=Hub
END:VEVENT
END:VCALENDAR
